BEGIN:VCALENDAR
VERSION:2.0
PRODID:-//Arena Rock Producciones - ECPv4.9.14//NONSGML v1.0//EN
CALSCALE:GREGORIAN
METHOD:PUBLISH
X-WR-CALNAME:Arena Rock Producciones
X-ORIGINAL-URL:https://www.arenarock.es
X-WR-CALDESC:Eventos para Arena Rock Producciones
BEGIN:VTIMEZONE
TZID:Europe/Madrid
BEGIN:DAYLIGHT
TZOFFSETFROM:+0100
TZOFFSETTO:+0200
TZNAME:CEST
DTSTART:20260329T010000
END:DAYLIGHT
BEGIN:STANDARD
TZOFFSETFROM:+0200
TZOFFSETTO:+0100
TZNAME:CET
DTSTART:20261025T010000
END:STANDARD
END:VTIMEZONE
BEGIN:VEVENT
DTSTART;TZID=Europe/Madrid:20260926T213000
DTEND;TZID=Europe/Madrid:20260926T213000
DTSTAMP:20260420T153439
CREATED:20260420T091541Z
LAST-MODIFIED:20260420T122433Z
UID:7243-1790458200-1790458200@www.arenarock.es
SUMMARY:THE NOWHERE PLAN- THE BEATLES TRIBUTE BAND
DESCRIPTION:Una noche mágica con la mejor música de los Beatles!\n🎟️ Anticipada 18€ + g.g. woutick.es \n 21:30H Apertura Puertas\n 22.00h Concierto\nThe Nowhere Plan presenta un espectáculo vibrante y emotivo que revive en directo los grandes éxitos de la banda más influyente de la historia. Compuesto por cinco músicos\, esta experiencia propone celebrar con frescura\, energía\, autenticidad y gran calidad musical\, el legado musical de The Beatles. \nTras diez años de trayectoria\, el dúo formado por Conn Bux\, cantante irlandés de voz inconfundible\, e Isaac Miguel\, ex-músico de El Canto del Loco\, The Nowhere Plan reúne a músicos de gran calidad que dan vida a un repertorio inolvidable: “Come Together”\, “Let It Be”\, “Hey Jude”\, “Something”… y muchos más. \nUn espectáculo lleno de simpatía\, complicidad y buen rollo\, para cantar\, bailar y emocionarse.  \n         \nTheNowherePlan es un proyecto musical formado por ConnBux\, cantante irlandés. e IsaacMiguel\,ex-\nintegrante de El Canto del Loco. \nDesde hace una década\, ambos músicos comparten con el público la magia del inigualable repertorio de TheBeatles\,\ntransmitiendo en cada concierto la energía y emoción de unas canciones que son eternas. \n \nNORMATIVA ACCESO SOLO DURANTE EL HORARIO DE CONCIERTOS.* \n*Los menores de edad legal\, con 16 y 17 años\, podrán entrar mostrando documentación en regla\, se les identifica con una pulsera\, y tendrán que firmar una autorización asumiendo la responsabilidad de: no consumir alcohol\, mantener la pulsera identificativa\, abandonar la sala al término de la actuación.\n \n*Los menores de 16 años\, tendrán que ir acompañados de su tutor legal durante toda la actuación\, aportando la documentación en regla de ambos\, que acredite la relación de tutor legal y tutelado.\nAl menor se le identifica con una pulsera\, y el tutor\, tendrá que firmar una autorización asumiendo la responsabilidad del menor de:\nno consumir alcohol\, mantener la pulsera identificativa\, abandonar la sala al término de a actuación.\nDescarga aquí la autorización. \n* LOS MENORES TENDRÁN QUE ADQUIRIR LA ENTRADA DE ACCESO AL MISMO PRECIO. \nDescarga aquí la autorización.\nhttps://www.arenarock.es/wp-content/uploads/AUTORIZACION-ACCESO-MENORES-.pdf \n
URL:https://www.arenarock.es/evento/the-nowhere-plan-the-beatles-tribute-band/
LOCATION:La Casa del Loco\, Calle Mayor 10-12\, Zaragoza\, Zaragoza\, 50001\, España
CATEGORIES:Pop,Rock
ATTACH;FMTTYPE=image/png:https://www.arenarock.es/wp-content/uploads/V-THE-BEATLES-NOWHERE-PLAN-COCIERTOS-ZARAGOZA-2026.png
GEO:41.653763;-0.876862
X-APPLE-STRUCTURED-LOCATION;VALUE=URI;X-ADDRESS=La Casa del Loco Calle Mayor 10-12 Zaragoza Zaragoza 50001 España;X-APPLE-RADIUS=500;X-TITLE=Calle Mayor 10-12:geo:-0.876862,41.653763
END:VEVENT
END:VCALENDAR