BEGIN:VCALENDAR
VERSION:2.0
PRODID:-//Arena Rock Producciones - ECPv4.9.14//NONSGML v1.0//EN
CALSCALE:GREGORIAN
METHOD:PUBLISH
X-WR-CALNAME:Arena Rock Producciones
X-ORIGINAL-URL:https://www.arenarock.es
X-WR-CALDESC:Eventos para Arena Rock Producciones
BEGIN:VTIMEZONE
TZID:Europe/Madrid
BEGIN:DAYLIGHT
TZOFFSETFROM:+0100
TZOFFSETTO:+0200
TZNAME:CEST
DTSTART:20240331T010000
END:DAYLIGHT
BEGIN:STANDARD
TZOFFSETFROM:+0200
TZOFFSETTO:+0100
TZNAME:CET
DTSTART:20241027T010000
END:STANDARD
END:VTIMEZONE
BEGIN:VEVENT
DTSTART;TZID=Europe/Madrid:20240203T210000
DTEND;TZID=Europe/Madrid:20240203T233000
DTSTAMP:20260421T114302
CREATED:20231130T172246Z
LAST-MODIFIED:20231212T160037Z
UID:5520-1706994000-1707003000@www.arenarock.es
SUMMARY:ÁLEX GARBER + SIGMUND WILDER
DESCRIPTION:🎟️Entradas  Ant.12€ AQUÍ\nTaquilla 15€ \nÁlex es de Zaragoza. Y eso se nota. En las guitarras y en la poesía. \nSu primera banda -con apenas 20 años- es Mister Hyde y comienzan a tocar y grabar\nen 2007. Varios premios locales y nacionales (Ganadores concurso PopyRock del\nAyuntamiento de Zaragoza; ganadores Premios de la Música Aragonesa en diferentes\naños\, a «Grupo con Mayor Proyección»\, «Mejor Disco del Año» y «Mejor Portada”;\nganadores concurso nacional de bandas “Impulsa” celebrado en Barcelona) e incluso\nson seleccionados para el primer GPS (Girando por Salas)\, ofreciendo en esa gira cinco\nconciertos a lo largo del país. Graban varios discos y maquetas. \nEn 2018 Alex registra unas canciones con su propio nombre que aparecen bajo el título\nde «Alma Norteña». El sonido\, fruto de la composición y los arreglos de ese momento\nvital\, es intimista y acústico. \nAhora\, en 2023\, inicia su etapa como solista eléctrico bajo el nombre de Álex Garber\,\ncon un primer EP “Vida Stereo” de sonidos sintéticos\, oscuridad y noche\, guitarras\ncristalinas: entre los 80 de La Dama se esconde\, The Smiths o Soda Stéreo y la revisión\npostpunk del nuevo siglo de Editors. Con músicos de su entorno monta una banda de\nacompañamiento que le permite llevar este primer repertorio en una primera gira por\nlas ciudades más importantes de España. \nPrensa ÁLEX GARBER 2023:\n ÁLEX GARBER en Aragón Musical \n ÁLEX GARBER en Heraldo de Aragón \nREDES SOCIALES Y PLATAFORMAS DIGITALES ÁLEX GARBER \nBIOGRAFÍA – Álex Garber \n \n \nSIGMUND WILDER (Barcelona):\nSigmund Wilder es el alter ego artístico de David Martínez\, un alma poseída por los sonidos del post punk y la new wave británica de los años 80 y primeros de los 90 y las oscuras bandas que surgieron tras la niebla del Union Jack durante el mandato de Margaret Thatcher. Tras las buenas críticas cosechadas por su álbum debut The Art Of\nSelf Boycott (2017) y su EP The Day David Bowie Died (2018)\, Sigmund Wilder vuelven a la actualidad en 2023 con DESORDEN\, un álbum producido por Santos & Fluren\, amos y señores de la factoría Blind Records y responsables del sonido de bandas como Love Of Lesbian\, Izal\, Elefantes o Sidonie entre otros. DESORDEN es una pieza clave en la evolución artística de Sigmund Wilder. No solo supone un salto de idioma al castellano tras dos discos en inglés\, sino también una reorientación de su sonido hacia atmósferas más sofisticadas y a texturas más electrónicas. \nDesde su debut discográfico en 2017\, Sigmund Wilder han dejado su huella en festivales como como el Festival Jardins de Pedralbes\, Curtcircuit\, el Festival del Mil.lenni\, el Festival Internacional de Música de Cambrils o el Festival de Porta Ferrada abriendo los shows de artistas como Bunbury\, The Human League\, Los Planetas o Elvis Costello ente otros. \nBiografía SIGMUND WILDER \n \n \n \nPOLÍTICA DE ACCESO MENORES\nMenores con 16 y 17 años con autorización firmada por padre/madre/tutor legal. \nDescarga aquí la autorización. \nMenores de 16 acompañados de padre/madre/tutor legal + autorización firmada por padre/madre/tutor legal. \nDescarga aquí la autorización. \n  \n
URL:https://www.arenarock.es/evento/alex-garber/
LOCATION:Sala Z\, Calle Félix Latassa\, 14\, Zaragoza\, Zaragoza\, 50006\, España
CATEGORIES:Pop
ATTACH;FMTTYPE=image/jpeg:https://www.arenarock.es/wp-content/uploads/alex-garber-sigmund-wilder-SALA-Z-ZARAGOZA-.jpg
GEO:41.642988;-0.892006
X-APPLE-STRUCTURED-LOCATION;VALUE=URI;X-ADDRESS=Sala Z Calle Félix Latassa 14 Zaragoza Zaragoza 50006 España;X-APPLE-RADIUS=500;X-TITLE=Calle Félix Latassa\, 14:geo:-0.892006,41.642988
END:VEVENT
END:VCALENDAR